BEGIN:VCALENDAR
VERSION:2.0
PRODID:-//ChamberMaster//Event Calendar 2.0//EN
METHOD:PUBLISH
X-PUBLISHED-TTL:P3D
REFRESH-INTERVAL:P3D
CALSCALE:GREGORIAN
BEGIN:VEVENT
DTSTART;VALUE=DATE:20200703
DTEND;VALUE=DATE:20200704
TRANSP:TRANSPARENT
X-MICROSOFT-CDO-ALLDAYEVENT:TRUE
SUMMARY:South OKC Chamber Closed for Independence Day
DESCRIPTION:The South OKC Chamber Closed will be closed Friday\, July 3\, in observance of Independence Day. Have a fun and safe holiday! We will return to the office on Monday.
X-ALT-DESC;FMTTYPE=text/html:The&nbsp\;South OKC Chamber Closed will be closed Friday\, July 3\, in observance of Independence Day. Have a fun and safe holiday! We will return to the office on Monday.&nbsp\;
LOCATION:
UID:e.435.26761
SEQUENCE:3
DTSTAMP:20260422T192924Z
URL:https://business.southokc.com/events/details/south-okc-chamber-closed-for-independence-day-26761
END:VEVENT

END:VCALENDAR
