BEGIN:VCALENDAR
VERSION:2.0
PRODID:-//ChamberMaster//Event Calendar 2.0//EN
METHOD:PUBLISH
X-PUBLISHED-TTL:P3D
REFRESH-INTERVAL:P3D
CALSCALE:GREGORIAN
BEGIN:VEVENT
DTSTART:20201210T190000Z
DTEND:20201210T200000Z
X-MICROSOFT-CDO-ALLDAYEVENT:FALSE
SUMMARY:Ribbon Cutting for The Leo Thurman Fieldhouse for Crooked Oak Public Schools
DESCRIPTION:It's time to celebrate with a Ribbon Cutting for the newly renovated Leo Thurman Fieldhouse for Crooked Oak Public Schools.  Join us as we celebrate\, plan to stop by to check out the new fieldhouse and enjoy making some connections while networking.\n\n\n\nRibbon Cutting Sponsor: Oklahoma City Energy FC
X-ALT-DESC;FMTTYPE=text/html:<span style="font-size: 14px\;"><span style="font-family: tahoma\;"><strong>It&#39\;s time to celebrate with a Ribbon Cutting for the newly renovated Leo Thurman Fieldhouse for Crooked Oak&nbsp\;Public Schools.&nbsp\;</strong></span></span><font face="Tahoma" size="3"> Join us as we celebrate\, plan to stop by to check out the new&nbsp\;fieldhouse and enjoy making some connections while&nbsp\;networking.</font><br />\n<br />\n<strong><font face="Tahoma" size="3">Ribbon Cutting Sponsor:&nbsp\;Oklahoma City Energy&nbsp\;FC</font></strong>
LOCATION:Crooked Oak Public Schools 1450 South Eastern Avenue\, 73129
UID:e.435.30091
SEQUENCE:3
DTSTAMP:20260423T201645Z
URL:https://business.southokc.com/events/details/ribbon-cutting-for-the-leo-thurman-fieldhouse-for-crooked-oak-public-schools-30091
END:VEVENT

END:VCALENDAR
