BEGIN:VCALENDAR
VERSION:2.0
PRODID:-//ChamberMaster//Event Calendar 2.0//EN
METHOD:PUBLISH
X-PUBLISHED-TTL:P3D
REFRESH-INTERVAL:P3D
CALSCALE:GREGORIAN
BEGIN:VEVENT
DTSTART:20210226T233000Z
DTEND:20210227T000000Z
X-MICROSOFT-CDO-ALLDAYEVENT:FALSE
SUMMARY:Ribbon Cutting for Fundacion Manos Juntas
DESCRIPTION:It's time to celebrate the new location with a Grand Opening and Ribbon Cutting for Fundaci n Manos Juntas. \n\n\n\nEstablished in 1995\, Fundaci n Manos Juntas provides free medical care to those in need in the Oklahoma City community regardless of race\, income\, gender\, age or religion. Services provided include physician screenings\, prescription medications\, laboratory tests\, health education and specialist referrals.\n\n\n\nPlan to join this virtual celebration as we welcome them to the South Oklahoma City community.\n\n \n\nRibbon Cutting Sponsor: Oklahoma City Energy FC
X-ALT-DESC;FMTTYPE=text/html:<p><span style="caret-color: rgb(20\, 20\, 18)\; color: rgb(20\, 20\, 18)\; font-family: &quot\;Source Sans Pro&quot\;\, Helvetica\, sans-serif\; font-size: 17.600000381469727px\;">It&#39\;s time to celebrate the&nbsp\;new location with a&nbsp\;Grand Opening and Ribbon Cutting for&nbsp\;Fundaci&oacute\;n Manos Juntas.</span><strong><font face="tahoma"><span style="font-size: 14px\;">&nbsp\;</span></font></strong><br />\n<br />\n<font color="#141412" face="Source Sans Pro\, Helvetica\, sans-serif"><span style="caret-color: rgb(20\, 20\, 18)\; font-size: 17.600000381469727px\;">Established in 1995\, Fundaci&oacute\;n Manos Juntas provides free medical care to those in need in the Oklahoma City community regardless of race\, income\, gender\, age or religion. Services provided include physician screenings\, prescription medications\, laboratory tests\, health education and specialist referrals.<br />\n<br />\nPlan to&nbsp\;join this virtual celebration as we welcome them to the South Oklahoma City community.</span></font><br />\n<span style="font-size: 14px\;"><span style="font-family: tahoma\;">&nbsp\;<br />\n<strong>Ribbon Cutting Sponsor:&nbsp\;Oklahoma City Energy&nbsp\;FC</strong></span></span></p>\n
LOCATION:This is a Virtual Ribbon Cutting\, register for Zoom link here Fundaci n Manos Juntas 1145 W I- 240 Service Rd.\, Building D\, Suite D\, 73139
UID:e.435.30173
SEQUENCE:3
DTSTAMP:20260422T105327Z
URL:https://business.southokc.com/events/details/ribbon-cutting-for-fundacion-manos-juntas-30173
END:VEVENT

END:VCALENDAR
