BEGIN:VCALENDAR
VERSION:2.0
PRODID:-//ChamberMaster//Event Calendar 2.0//EN
METHOD:PUBLISH
X-PUBLISHED-TTL:P3D
REFRESH-INTERVAL:P3D
CALSCALE:GREGORIAN
BEGIN:VEVENT
DTSTART:20220809T170000Z
DTEND:20220809T180000Z
X-MICROSOFT-CDO-ALLDAYEVENT:FALSE
SUMMARY:Penetration Testing by Eide Bailly
DESCRIPTION:Are your systems and networks secure? Put them to the test! Through the use of penetration testing\, we can identify security weaknesses within your organization. As a result\, you'll know where risk areas lie within your organization and be able to take steps to repair weak spots and create a secure network. Join us as we discuss the process and potential outcomes of penetration testing.\n\nLearning Objectives:\n\n\n	Define Penetration Testing.\n	Summarize the testing process.\n	Explore potential outcomes.\n	Identify next steps.\n	Discuss real world scenarios.\n\n\nPresenter:\n\nKyle Hendrickson\, Director of Cybersecurity | Eide Bailly\n\nCPE Information\n\nCPE Credit: 1\n\nField of Study: Information Technology\n\nLevel of Knowledge: Overview\n\nDelivery Method: Group-Internet Based\n\n\n\nAdditional Information: This is a Group-Internet Based Webinar. No prerequisites or advanced preparation required. For information regarding a complaint and/or program cancellation policies\, please contact Amy DeGeorge.
X-ALT-DESC;FMTTYPE=text/html:<p>Are your systems and networks secure? Put them to the test! Through the use of penetration testing\, we can identify security weaknesses within your organization. As a result\, you&#39\;ll know where risk areas lie within your organization and be able to take steps to repair weak spots and create a secure network. Join us as we discuss the process and potential outcomes of penetration testing.</p>\n\n<p><strong>Learning Objectives:</strong></p>\n\n<ul style="list-style-type:none">\n	<li>Define Penetration Testing.</li>\n	<li>Summarize the testing process.</li>\n	<li>Explore potential outcomes.</li>\n	<li>Identify next steps.</li>\n	<li>Discuss real world scenarios.</li>\n</ul>\n\n<p><strong>Presenter:</strong><br />\n<strong><a href="mailto:khendrickson@eidebailly.com?subject=Question%20regarding%20Eide%20Bailly%20Webinar" style="box-sizing: border-box\; background-color: transparent\; color: rgb(10\, 93\, 103)\; padding: 0px 2px\; margin: 0px\;">Kyle Hendrickson\, Director of Cybersecurity | Eide Bailly</a></strong></p>\n\n<p><strong>CPE Information</strong><br />\n<strong>CPE Credit:&nbsp\;</strong>1<br />\n<strong>Field of Study:&nbsp\;</strong>Information Technology<br />\n<strong>Level of Knowledge:</strong>&nbsp\;Overview<br />\n<strong>Delivery Method:&nbsp\;</strong>Group-Internet Based<br />\n<br />\n<strong>Additional Information:&nbsp\;</strong>This is a Group-Internet Based Webinar. No prerequisites or advanced preparation required. For information regarding a complaint and/or program cancellation policies\, please contact&nbsp\;<a href="mailto:adegeorge@eidebailly.com?subject=Question%20regarding%20an%20event%20on%20www.eidebailly.com" style="box-sizing: border-box\; background-color: transparent\; color: rgb(10\, 93\, 103)\; padding: 0px 2px\; margin: 0px\;">Amy DeGeorge</a>.</p>\n
LOCATION:Online Webinar
UID:e.435.32639
SEQUENCE:3
DTSTAMP:20260421T163545Z
URL:https://business.southokc.com/events/details/penetration-testing-by-eide-bailly-32639
END:VEVENT

END:VCALENDAR
