BEGIN:VCALENDAR
VERSION:2.0
PRODID:-//ChamberMaster//Event Calendar 2.0//EN
METHOD:PUBLISH
X-PUBLISHED-TTL:P3D
REFRESH-INTERVAL:P3D
CALSCALE:GREGORIAN
BEGIN:VEVENT
DTSTART:20230921T223000Z
DTEND:20230922T020000Z
X-MICROSOFT-CDO-ALLDAYEVENT:FALSE
SUMMARY:OCCC's Inaugural Rosewood Gala
DESCRIPTION:The Rosewood Gala: An Evening of Excellence is a premier event that brings together the community to support the initiatives of the Foundation for Oklahoma City Community College. The Rosewood Gala will be held on Thursday\, September 21\, 2023 in the stunning OCCC Visual and Performing Arts Center. This black-tie event is a celebration of excellence in education and the impact it has on the future of our city. The Rosewood Gala will feature special guests\, honorees\, great food\, dancing to a live band and an opportunity to join other area organizations and people who recognize that our community grows and prospers when we deliver promising and well-prepared graduates into our dynamic economy.
X-ALT-DESC;FMTTYPE=text/html:<strong><span style="color:#9E0000">The Rosewood Gala: An Evening of Excellence</span></strong> is a premier event that brings together the community to support the initiatives of the Foundation for Oklahoma City Community College. The Rosewood Gala will be held on <strong><span style="color:#9E0000">Thursday\,</span></strong> <strong><span style="color:#9E0000">September 21\, 2023</span></strong> in the stunning OCCC Visual and Performing Arts Center. This black-tie event is a celebration of excellence in education and the impact it has on the future of our city. The Rosewood Gala will feature special guests\, honorees\, great food\, dancing to a live band and an opportunity to join other area organizations and people who recognize that our community grows and prospers when we deliver promising and well-prepared graduates into our dynamic economy.
LOCATION:Oklahoma City Community College Visual & Performing Arts Center 7777 South May Avenue\, 73159
UID:e.435.33902
SEQUENCE:3
DTSTAMP:20260425T190340Z
URL:https://business.southokc.com/events/details/occc-s-inaugural-rosewood-gala-33902
END:VEVENT

END:VCALENDAR
