BEGIN:VCALENDAR
VERSION:2.0
PRODID:-//ChamberMaster//Event Calendar 2.0//EN
METHOD:PUBLISH
X-PUBLISHED-TTL:P3D
REFRESH-INTERVAL:P3D
CALSCALE:GREGORIAN
BEGIN:VEVENT
DTSTART:20260424T003000Z
DTEND:20260424T030000Z
X-MICROSOFT-CDO-ALLDAYEVENT:FALSE
SUMMARY:National Geographic Live - Engineering Life In Space at Oklahoma City Community College
DESCRIPTION:Take an adventure to places on Earth that mimic the moon: from a zero-gravity aircraft making parabolic loops to remote islands that serve as testing grounds for next-gen technologies. We get a behind-the-scenes look at the newest robotics as engineer and National Geographic Explorer Cody Paige builds the technologies that might allow humans to create a lasting presence beyond Earth.
X-ALT-DESC;FMTTYPE=text/html:Take an adventure to places on Earth that mimic the moon: from a zero-gravity aircraft making parabolic loops to remote islands that serve as testing grounds for next-gen technologies. We get a behind-the-scenes look at the newest robotics as engineer and National Geographic Explorer Cody Paige builds the technologies that might allow humans to create a lasting presence beyond Earth.
LOCATION:Oklahoma City Community College Visual and Performing Arts Center\, 7777 S. May Ave\, Oklahoma City\, OK 73159
UID:e.435.37034
SEQUENCE:3
DTSTAMP:20260420T234722Z
URL:https://business.southokc.com/events/details/national-geographic-live-engineering-life-in-space-at-oklahoma-city-community-college-37034
END:VEVENT

END:VCALENDAR
