BEGIN:VCALENDAR
VERSION:2.0
PRODID:-//ChamberMaster//Event Calendar 2.0//EN
METHOD:PUBLISH
X-PUBLISHED-TTL:P3D
REFRESH-INTERVAL:P3D
CALSCALE:GREGORIAN
BEGIN:VEVENT
DTSTART:20260428T163000Z
DTEND:20260428T180000Z
X-MICROSOFT-CDO-ALLDAYEVENT:FALSE
SUMMARY:MetroEDGE YP Lunch Bunch
DESCRIPTION:Hey MetroEDGE young professionals! Looking for a midday pick-me-up? Come grab lunch with us! It's the perfect chance to enjoy good food\, great company\, and connect with other ambitious young professionals in our community.\n\n\n\nBring a friend and let's make lunchtime the highlight of your day. Don't miss out come network and grow with us!\n\n\n\nPresenting Sponsor: Oklahoma City Community College\n\nGold Sponsors: Armstrong Bank\, Smith Roberts Baldischwiler LLC\, and Southern Nazarene University
X-ALT-DESC;FMTTYPE=text/html:Hey MetroEDGE young professionals! Looking for a midday pick-me-up? Come grab lunch with us! It&#39\;s the perfect chance to enjoy good food\, great company\, and connect with other ambitious young professionals in our community.<br />\n<br />\nBring a friend and let&#39\;s make lunchtime the highlight of your day. Don&rsquo\;t miss out&mdash\;come network and grow with us!<br />\n<br />\nPresenting Sponsor: Oklahoma City Community College<br />\nGold Sponsors: Armstrong Bank\, Smith Roberts Baldischwiler LLC\, and Southern Nazarene University
LOCATION:Bad Daddy's Burger Bar 2050 24th Avenue NW #100 Norman\, 73069
UID:e.435.38037
SEQUENCE:3
DTSTAMP:20260420T214928Z
URL:https://business.southokc.com/events/details/metroedge-yp-lunch-bunch-38037
END:VEVENT

END:VCALENDAR
