BEGIN:VCALENDAR
VERSION:2.0
PRODID:-//ChamberMaster//Event Calendar 2.0//EN
METHOD:PUBLISH
X-PUBLISHED-TTL:P3D
REFRESH-INTERVAL:P3D
CALSCALE:GREGORIAN
BEGIN:VEVENT
DTSTART;VALUE=DATE:20260601
DTEND;VALUE=DATE:20260613
TRANSP:TRANSPARENT
X-MICROSOFT-CDO-ALLDAYEVENT:TRUE
SUMMARY:Metro Tech Summer Camp - Camp Tech Trek
DESCRIPTION:Enrollment is now open for Camp Tech Trek\, Metro Tech's hands-on summer day camp designed to spark curiosity and introduce 5th-8th-grade students to a world of career possibilities. The 5-day session begins June 1 at the Metro Tech Springlake Campus.\n\nCamp Tech Trek 2026 will feature two unique 5-day sessions\, each hosted at a different Metro Tech campus. The first session\, June 1 5 at the Springlake Campus\, will offer hands-on education in visual arts\, healthcare\, cosmetology\, barbering\, childcare\, STEM\, and culinary arts\, along with a career-readiness rotation focused on teamwork and problem-solving.\n\nThe second session\, June 8 12 at the South Bryant Campus\, will offer interactive activities in entrepreneurship\, heating\, ventilation\, and air conditioning (HVAC)\, automotive technology\, emergency medical services\, public safety\, robotics\, and welding. Each session will conclude with a career-focused activity and preparation for the Family Showcase\, where campers can invite family members to see and celebrate what they've learned throughout the week.\n\nParents and guardians may enroll their student in one or both sessions. Tuition is $60 per session and includes daily lunch and snacks\, with transportation available to help ensure accessibility for families across the district.
X-ALT-DESC;FMTTYPE=text/html:<p><span style="font-size:16px">Enrollment is now open for&nbsp\;<a href="https://www.metrotech.edu/summercamps" style="box-sizing: border-box\; background-color: transparent\; text-decoration-line: none\; text-decoration-style: solid\; text-decoration-thickness: 1.5px\; text-underline-offset: 5px\; font-weight: 700\; color: rgb(0\, 94\, 184)\; transition: text-decoration-color 0.3s ease-in-out\; text-decoration-color: rgb(0\, 181\, 226) !important\;">Camp Tech Trek</a>\, Metro Tech&rsquo\;s hands-on summer day camp designed to spark curiosity and introduce 5th-8th-grade students to a world of career possibilities. The 5-day session begins June 1 at the Metro Tech&nbsp\;Springlake Campus.</span></p>\n\n<p><span style="font-size:16px">Camp Tech Trek 2026 will feature two unique 5-day sessions\, each hosted at a different Metro Tech campus. The first session\, June 1&ndash\;5 at the&nbsp\;<a href="https://www.metrotech.edu/about/locations/springlake-campus" style="box-sizing: border-box\; background-color: transparent\; text-decoration-line: none\; text-decoration-style: solid\; text-decoration-thickness: 1.5px\; text-underline-offset: 5px\; font-weight: 700\; color: rgb(0\, 94\, 184)\; transition: text-decoration-color 0.3s ease-in-out\; text-decoration-color: rgb(0\, 181\, 226) !important\;">Springlake Campus</a>\, will offer hands-on education in visual arts\, healthcare\, cosmetology\, barbering\, childcare\, STEM\, and culinary arts\, along with a career-readiness rotation focused on teamwork and problem-solving.</span></p>\n\n<p><span style="font-size:16px">The second session\, June 8&ndash\;12 at the&nbsp\;<a href="https://www.metrotech.edu/about/locations/south-bryant-campus" style="box-sizing: border-box\; background-color: transparent\; text-decoration-line: none\; text-decoration-style: solid\; text-decoration-thickness: 1.5px\; text-underline-offset: 5px\; font-weight: 700\; color: rgb(0\, 94\, 184)\; transition: text-decoration-color 0.3s ease-in-out\; text-decoration-color: rgb(0\, 181\, 226) !important\;">South Bryant Campus</a>\, will offer interactive activities in entrepreneurship\, heating\, ventilation\, and air conditioning (HVAC)\, automotive technology\, emergency medical services\, public safety\, robotics\, and welding. Each session will conclude with a career-focused activity and preparation for the Family Showcase\, where campers can invite family members to see and celebrate what they&rsquo\;ve learned throughout the week.</span></p>\n\n<p><span style="font-size:16px">Parents and guardians may enroll their student in one or both sessions. Tuition is $60 per session and includes daily lunch and snacks\, with transportation available to help ensure accessibility for families across the district.</span></p>\n
LOCATION:The first session\, June 1 5 at the Springlake Campus\, will offer hands-on education in visual arts\, healthcare\, cosmetology\, barbering\, childcare\, STEM\, and culinary arts\, along with a career-readiness rotation focused on teamwork and problem-solving. The second session\, June 8 12 at the South Bryant Campus\, will offer interactive activities in entrepreneurship\, heating\, ventilation\, and air conditioning (HVAC)\, automotive technology\, emergency medical services\, public safety\, robotics\, and welding.
UID:e.435.38120
SEQUENCE:3
DTSTAMP:20260419T120935Z
URL:https://business.southokc.com/events/details/metro-tech-summer-camp-camp-tech-trek-38120
END:VEVENT

END:VCALENDAR
