BEGIN:VCALENDAR
VERSION:2.0
PRODID:-//ChamberMaster//Event Calendar 2.0//EN
METHOD:PUBLISH
X-PUBLISHED-TTL:P3D
REFRESH-INTERVAL:P3D
CALSCALE:GREGORIAN
BEGIN:VEVENT
DTSTART:20210825T163000Z
DTEND:20210825T180000Z
X-MICROSOFT-CDO-ALLDAYEVENT:FALSE
SUMMARY:Membership Luncheon with Oklahoma State Director of Aeronautics Grayson Ardies
DESCRIPTION:Come join us for the South Oklahoma City Chamber of Commerce Membership Luncheon. The keynote speaker will be Oklahoma State Director of Aeronautics Grayson Ardies. The Oklahoma Aeronautics Commission's mission is to promote aviation and aerospace\, which includes fostering the growth of the aerospace industry and ensuring that the needs of commerce and communities across Oklahoma are met by the 108 public airports that comprise the state's air transportation system. \n\n\n\nPresenting Sponsor: Oklahoma Natural Gas
X-ALT-DESC;FMTTYPE=text/html:Come join us for the South Oklahoma City Chamber of Commerce Membership Luncheon. The keynote speaker will be Oklahoma State Director of Aeronautics Grayson Ardies.&nbsp\;The Oklahoma Aeronautics Commission&#39\;s mission is to promote aviation and aerospace\, which includes fostering the growth of the aerospace industry and ensuring that the needs of commerce and communities across Oklahoma are met by the 108 public airports that comprise the state&rsquo\;s air transportation system.&nbsp\;<br />\n<br />\n<span style="font-family: Arial\;"><u>Presenting Sponsor</u>: Oklahoma Natural Gas</span>
LOCATION:Oklahoma City Community College Visual and Performing Arts Center 7777 South May Avenue\, 73159
UID:e.435.30571
SEQUENCE:3
DTSTAMP:20260422T221238Z
URL:https://business.southokc.com/events/details/membership-luncheon-with-oklahoma-state-director-of-aeronautics-grayson-ardies-30571
END:VEVENT

END:VCALENDAR
