BEGIN:VCALENDAR
VERSION:2.0
PRODID:-//ChamberMaster//Event Calendar 2.0//EN
METHOD:PUBLISH
X-PUBLISHED-TTL:P3D
REFRESH-INTERVAL:P3D
CALSCALE:GREGORIAN
BEGIN:VEVENT
DTSTART:20260430T210000Z
DTEND:20260430T230000Z
X-MICROSOFT-CDO-ALLDAYEVENT:FALSE
SUMMARY:Meet the Chair 2026 - Kickback with Kretchmar
DESCRIPTION:Join our 2026 Chair of the Board\, Jeff Kretchmar\, for an evening of relaxed networking and meaningful conversation.  Enjoy an evening to sip\, connect\, and kick back with fellow members\, board members\, and ambassadors!\n\nPresenting Sponsors: Arvest Bank and Prodigal
X-ALT-DESC;FMTTYPE=text/html:<p data-end="391" data-start="96">Join our 2026 Chair of the Board\, Jeff Kretchmar\, for an evening of relaxed networking and meaningful conversation.&nbsp\; Enjoy an evening to sip\, connect\, and kick back with fellow members\, board members\, and ambassadors!</p>\n\n<p data-end="530" data-is-last-node="" data-is-only-node="" data-start="393">Presenting Sponsors: Arvest Bank and Prodigal</p>\n
LOCATION:Ponyboy at Tower Theatre 423 Northwest 23 Street\, Oklahoma City
UID:e.435.38064
SEQUENCE:3
DTSTAMP:20260420T215844Z
URL:https://business.southokc.com/events/details/meet-the-chair-2026-kickback-with-kretchmar-38064
END:VEVENT

END:VCALENDAR
