BEGIN:VCALENDAR
VERSION:2.0
PRODID:-//ChamberMaster//Event Calendar 2.0//EN
METHOD:PUBLISH
X-PUBLISHED-TTL:P3D
REFRESH-INTERVAL:P3D
CALSCALE:GREGORIAN
BEGIN:VEVENT
DTSTART:20220525T163000Z
DTEND:20220525T180000Z
X-MICROSOFT-CDO-ALLDAYEVENT:FALSE
SUMMARY:Legislative Lunch with Congressman Frank Lucas
DESCRIPTION:Join us for a Legislative Lunch with Congressman Frank Lucas from Oklahomas 3rd Congressional District.  Please RSVP for this event (lunch will be provided).\n\n\n\nPresenting Sponsor: Moore Norman Technology Center\n\nGold Sponsors: Oklahoma City Community College\; T.C. Burgin\, C.P.A.\, P.C.\; and Tyler Media\n\nDiamond Sponsors: Dignity Memorial Funeral Homes and Cemeteries\; and Plumbers & Pipefitters Local 344\n\nSilver Sponsors: Carvana\, Echols and Associates\; Home Creations\; OG&E\; Norman Regional Health System\;  and the South Oklahoma City Chamber of Commerce Political Action Committee\n\nBronze Sponsors: Friends of Chris Kannady\, Jones PR\, Prosperity Bank\; and Senator Paul Rosino
X-ALT-DESC;FMTTYPE=text/html:<span style="font-family: arial\;"><span new="" style="font-size: 12pt\;" times="">Join us for a Legislative Lunch&nbsp\;with Congressman Frank Lucas from Oklahomas 3rd Congressional District.&nbsp\; Please RSVP for this event (lunch will be provided).</span></span><br />\n<br />\n<span style="color: rgb(0\, 0\, 0)\; font-family: arial\; font-size: 14px\; caret-color: rgb(0\, 0\, 0)\; text-size-adjust: auto\;"><span style="font-size: 12pt\;"><u>Presenting Sponsor:</u>&nbsp\;Moore Norman Technology Center<br />\n<u>Gold Sponsors:</u>&nbsp\;Oklahoma City Community College\; T.C. Burgin\, C.P.A.\, P.C.\; and&nbsp\;</span></span><span style="color: rgb(0\, 0\, 0)\; line-height: 25px\; font-family: arial\; font-size: 16px\; caret-color: rgb(0\, 0\, 0)\; text-size-adjust: auto\;">Tyler Media<br />\n<u>Diamond Sponsors:</u>&nbsp\;</span><span style="font-size: 16px\;">Dignity Memorial Funeral Homes and Cemeteries\; and Plumbers &amp\; Pipefitters Local 344</span><br style="color: rgb(0\, 0\, 0)\; font-family: Arial\; font-size: 14px\; caret-color: rgb(0\, 0\, 0)\; text-size-adjust: auto\;" />\n<span style="color: rgb(0\, 0\, 0)\; font-family: arial\; font-size: 14px\; caret-color: rgb(0\, 0\, 0)\; text-size-adjust: auto\;"><span style="font-size: 12pt\;"><u>Silver Sponsors:</u>&nbsp\;Carvana\, Echols and Associates\; Home Creations\; OG&amp\;E\; Norman Regional Health System\;&nbsp\; and the South Oklahoma City Chamber of Commerce Political Action Committee<br />\n<u>Bronze Sponsors:</u>&nbsp\;Friends of Chris Kannady\, Jones PR\, Prosperity Bank\; and Senator Paul Rosino</span></span>
LOCATION:Moore Norman Technology Center - South Penn Campus 13301 South Pennsylvania Avenue\, 73170
UID:e.435.32103
SEQUENCE:3
DTSTAMP:20260422T044612Z
URL:https://business.southokc.com/events/details/legislative-lunch-with-congressman-frank-lucas-32103
END:VEVENT

END:VCALENDAR
