BEGIN:VCALENDAR
VERSION:2.0
PRODID:-//ChamberMaster//Event Calendar 2.0//EN
METHOD:PUBLISH
X-PUBLISHED-TTL:P3D
REFRESH-INTERVAL:P3D
CALSCALE:GREGORIAN
BEGIN:VEVENT
DTSTART:20230209T210000Z
DTEND:20230209T223000Z
X-MICROSOFT-CDO-ALLDAYEVENT:FALSE
SUMMARY:Instant Connections - Hosted by GEICO OKC South
DESCRIPTION:Come network and make some new connections for 2023! This speed networking event is fun\, full of energy\, and will allow attendees to share information about their respective businesses.  Attendees are allowed 90 seconds at each table to share information and then move to a new audience and repeat the process. Make sure to bring your business cards and any company swag you'd like to hand out to attendees!\n\n\n\nThe session is free\; but a $10 no-show fee. Instant Connections is limited to the first 36 responders and is a members-only event. \n\n\n\nPresenting Sponsor: Christian Brothers Automotive\n\nHost Sponsor: GEICO OKC South
X-ALT-DESC;FMTTYPE=text/html:<p>Come network and make some new connections for 2023! This speed networking event is fun\,&nbsp\;full of energy\, and will allow&nbsp\;attendees to share information about their respective businesses.<strong>&nbsp\; </strong>Attendees are allowed 90 seconds at each table to share information and then move to a new audience and repeat the process. Make sure to bring your business cards and any company swag you&#39\;d like to hand out to attendees!<br />\n<br />\nThe session is free\; but a $10 no-show fee. Instant Connections is <u>limited to the first 36&nbsp\;responders and is a members-only event</u>.&nbsp\;<br />\n<br />\n<u>Presenting Sponsor</u>: Christian Brothers Automotive<br />\n<u>Host Sponsor</u>: GEICO OKC South<br />\n&nbsp\;</p>\n
LOCATION:South OKC Chamber of Commerce OG&E Reception Room 701 Southwest 74 Street\, 73139
UID:e.435.33514
SEQUENCE:3
DTSTAMP:20260422T213103Z
URL:https://business.southokc.com/events/details/instant-connections-hosted-by-geico-okc-south-33514
END:VEVENT

END:VCALENDAR
