BEGIN:VCALENDAR
VERSION:2.0
PRODID:-//ChamberMaster//Event Calendar 2.0//EN
METHOD:PUBLISH
X-PUBLISHED-TTL:P3D
REFRESH-INTERVAL:P3D
CALSCALE:GREGORIAN
BEGIN:VEVENT
DTSTART:20240909T223000Z
DTEND:20240909T233000Z
X-MICROSOFT-CDO-ALLDAYEVENT:FALSE
SUMMARY:Hispanic Seminar - Unlocking Success: Mastering the Art of Managing Multiple Businesses
DESCRIPTION:Unlocking Success: Mastering the Art of Managing Multiple Businesses\n\nIn today's fast-paced and ever-evolving business landscape\, many entrepreneurs find themselves juggling multiple ventures. Whether you're a seasoned business owner or just beginning to explore the potential of owning multiple companies\, the ability to effectively manage and grow each one is crucial to your success.\n\n\n\nDesbloqueando el  xito: Dominando el Arte de Gestionar M ltiples Negocios\n\nEn el vertiginoso y siempre cambiante panorama empresarial de hoy en d a\, muchos emprendedores se encuentran manejando varias iniciativas a la vez. Ya sea que seas un propietario de negocios experimentado o que est s comenzando a explorar el potencial de poseer varias empresas\, la capacidad de gestionar y hacer crecer cada una de manera efectiva es crucial para tu  xito.\n\n\n\n\n\nPresenting Sponsor: Oklahoma City Community College\n\nGold Sponsor: GEICO OKC South\, Moore Norman Technology Center\, and Tyler Media
X-ALT-DESC;FMTTYPE=text/html:<strong>Unlocking Success: Mastering the Art of Managing Multiple Businesses</strong><br />\n<span style="font-size:11px\;">In today&rsquo\;s fast-paced and ever-evolving business landscape\, many entrepreneurs find themselves juggling multiple ventures. Whether you&rsquo\;re a seasoned business owner or just beginning to explore the potential of owning multiple companies\, the ability to effectively manage and grow each one is crucial to your success.</span><br />\n<br />\n<strong>Desbloqueando el &Eacute\;xito: Dominando el Arte de Gestionar M&uacute\;ltiples Negocios</strong><br />\n<span style="font-size:11px\;">En el vertiginoso y siempre cambiante panorama empresarial de hoy en d&iacute\;a\, muchos emprendedores se encuentran manejando varias iniciativas a la vez. Ya sea que seas un propietario de negocios experimentado o que est&eacute\;s comenzando a explorar el potencial de poseer varias empresas\, la capacidad de gestionar y hacer crecer cada una de manera efectiva es crucial para tu &eacute\;xito.</span><br />\n<br />\n<br />\n<strong>Presenting Sponsor: Oklahoma City Community College<br />\nGold Sponsor: GEICO OKC South\, Moore Norman Technology Center\, and Tyler Media</strong>
LOCATION:South Oklahoma City Chamber 701 Southwest 74 Street\, 73139
UID:e.435.35846
SEQUENCE:3
DTSTAMP:20260421T094026Z
URL:https://business.southokc.com/events/details/hispanic-seminar-unlocking-success-mastering-the-art-of-managing-multiple-businesses-35846
END:VEVENT

END:VCALENDAR
