BEGIN:VCALENDAR
VERSION:2.0
PRODID:-//ChamberMaster//Event Calendar 2.0//EN
METHOD:PUBLISH
X-PUBLISHED-TTL:P3D
REFRESH-INTERVAL:P3D
CALSCALE:GREGORIAN
BEGIN:VEVENT
DTSTART:20260504T153000Z
DTEND:20260504T160000Z
X-MICROSOFT-CDO-ALLDAYEVENT:FALSE
SUMMARY:Grand Opening & Ribbon Cutting for The LOKAL Moore
DESCRIPTION:It's time to celebrate with a Grand Opening and Ribbon Cutting for The LOKAL Moore.  Locally owned full-service restaurant & bar featuring Okie Cuisine. Come join us as we celebrate them!\n\n\n\nRibbon Cutting Sponsor: First United Bank
X-ALT-DESC;FMTTYPE=text/html:<p><span style="font-size:16px\;"><strong>It&#39\;s time to celebrate with a&nbsp\;Grand Opening and Ribbon Cutting for The LOKAL Moore.&nbsp\;&nbsp\;</strong></span>Locally owned full-service restaurant &amp\; bar featuring Okie Cuisine.&nbsp\;Come join us as we celebrate them!<br />\n<br />\n<span style="font-size: 14px\;"><span style="font-family: tahoma\;"><strong>Ribbon Cutting Sponsor:</strong> First United Bank</span></span></p>\n
LOCATION:The LOKAL Moore 12501 South Western Avenue\, Suite B\, 73170
UID:e.435.38122
SEQUENCE:3
DTSTAMP:20260422T090353Z
URL:https://business.southokc.com/events/details/grand-opening-ribbon-cutting-for-the-lokal-moore-38122
END:VEVENT

END:VCALENDAR
