BEGIN:VCALENDAR
VERSION:2.0
PRODID:-//ChamberMaster//Event Calendar 2.0//EN
METHOD:PUBLISH
X-PUBLISHED-TTL:P3D
REFRESH-INTERVAL:P3D
CALSCALE:GREGORIAN
BEGIN:VEVENT
DTSTART:20260429T160000Z
DTEND:20260429T160000Z
X-MICROSOFT-CDO-ALLDAYEVENT:FALSE
SUMMARY:Grand Opening & Ribbon Cutting for The Hair Collective
DESCRIPTION:It's time to celebrate with a Grand Opening and Ribbon Cutting for The Hair Collective Salon. Full-Service Hair Salon Serving Oklahoma City Metro Area. Haircuts for Men and Women. All Color Services. Hair Extensions and More! Come join us as we celebrate them!\n\n\n\nRibbon Cutting Sponsor: First United Bank
X-ALT-DESC;FMTTYPE=text/html:<p><span style="font-size:16px\;"><strong>It&#39\;s time to celebrate with a&nbsp\;Grand Opening and Ribbon Cutting for The Hair Collective Salon.&nbsp\;</strong></span>Full-Service Hair Salon Serving Oklahoma City Metro Area. Haircuts for Men and Women. All Color Services. Hair Extensions and More! Come join us as we celebrate them!<br />\n<br />\n<span style="font-size: 14px\;"><span style="font-family: tahoma\;"><strong>Ribbon Cutting Sponsor:</strong> First United Bank</span></span></p>\n
LOCATION:The Hair Collective Salon 2810 Southwest 104 Street\, 73159
UID:e.435.38053
SEQUENCE:3
DTSTAMP:20260420T234458Z
URL:https://business.southokc.com/events/details/grand-opening-ribbon-cutting-for-the-hair-collective-38053
END:VEVENT

END:VCALENDAR
