BEGIN:VCALENDAR
VERSION:2.0
PRODID:-//ChamberMaster//Event Calendar 2.0//EN
METHOD:PUBLISH
X-PUBLISHED-TTL:P3D
REFRESH-INTERVAL:P3D
CALSCALE:GREGORIAN
BEGIN:VEVENT
DTSTART:20260504T210000Z
DTEND:20260504T210000Z
X-MICROSOFT-CDO-ALLDAYEVENT:FALSE
SUMMARY:Grand Opening & Ribbon Cutting for INTEGRIS Health Medical Group Norman
DESCRIPTION:New Location! It's time to celebrate with a Grand Opening & Ribbon Cutting for INTEGRIS Health Medical Group Norman. Join us as we celebrate the opening of the new clinic. \n\n\n\nRibbon Cutting Sponsor: First United Bank
X-ALT-DESC;FMTTYPE=text/html:<p><span style="font-size: 14px\;"><span style="font-family: tahoma\;"><strong>New Location! It&#39\;s time to celebrate with a Grand Opening &amp\; Ribbon Cutting for INTEGRIS Health Medical Group Norman.&nbsp\;</strong></span></span>Join us as we celebrate the opening of the new clinic.&nbsp\;<br />\n<br />\n<span style="font-size: 14px\;"><span style="font-family: tahoma\;"><strong>Ribbon Cutting Sponsor: First United Bank</strong></span></span></p>\n
LOCATION:INTEGRIS Health Medical Group Norman 2361 36th Avenue Northwest\, Norman\, 73072
UID:e.435.38073
SEQUENCE:3
DTSTAMP:20260423T085031Z
URL:https://business.southokc.com/events/details/grand-opening-ribbon-cutting-for-integris-health-medical-group-norman-38073
END:VEVENT

END:VCALENDAR
