BEGIN:VCALENDAR
VERSION:2.0
PRODID:-//ChamberMaster//Event Calendar 2.0//EN
METHOD:PUBLISH
X-PUBLISHED-TTL:P3D
REFRESH-INTERVAL:P3D
CALSCALE:GREGORIAN
BEGIN:VEVENT
DTSTART:20230403T163000Z
DTEND:20230403T170000Z
X-MICROSOFT-CDO-ALLDAYEVENT:FALSE
SUMMARY:Grand Opening & Ribbon Cutting for Complete Dental of OKC
DESCRIPTION:It's time to celebrate with a Grand Opening and Ribbon Cutting for Complete Dental of OKC. They're known for providing excellent dentistry by putting their patients' best interests first. Join us as we welcome them to the chamber community.\n\n\nRibbon Cutting Sponsor: First United Bank
X-ALT-DESC;FMTTYPE=text/html:<p><b style="font-family: tahoma\; font-size: 18px\;">It&#39\;s time to celebrate with a&nbsp\;Grand Opening and Ribbon Cutting for Complete Dental of OKC.&nbsp\;</b><span style="font-size:18px\;">They&#39\;re known for providing excellent dentistry by putting their patients&#39\; best interests first. Join us as we welcome them to the chamber community.</span></p>\n\n<div>\n<div><span style="font-size:18px\;"><span style="font-family: tahoma\;"><strong>Ribbon Cutting Sponsor: First United Bank</strong></span></span></div>\n</div>\n
LOCATION:Complete Dental of OKC 518 West I-240 Service Road\, 73139
UID:e.435.33590
SEQUENCE:3
DTSTAMP:20260423T161343Z
URL:https://business.southokc.com/events/details/grand-opening-ribbon-cutting-for-complete-dental-of-okc-33590
END:VEVENT

END:VCALENDAR
