BEGIN:VCALENDAR
VERSION:2.0
PRODID:-//ChamberMaster//Event Calendar 2.0//EN
METHOD:PUBLISH
X-PUBLISHED-TTL:P3D
REFRESH-INTERVAL:P3D
CALSCALE:GREGORIAN
BEGIN:VEVENT
DTSTART:20211001T150000Z
DTEND:20211001T170000Z
X-MICROSOFT-CDO-ALLDAYEVENT:FALSE
SUMMARY:Grand Opening & Ribbon Cutting - Central Bank of Oklahoma
DESCRIPTION:It's time to celebrate with a Grand Opening and Ribbon Cutting for Central Bank of Oklahoma.  Community-oriented financial service provider. We have six full-service locations in the greater Tulsa metropolitan area\, including the communities of South Oklahoma City\, Owasso\, Sapulpa\, Stillwater and Edmond. Strong Bank. Endless Possibilities \n\n\n\nRibbon Cutting Sponsor: Oklahoma City Energy FC
X-ALT-DESC;FMTTYPE=text/html:<p><span style="font-size: 14px\;"><span style="font-family: tahoma\;"><strong>It&#39\;s time to celebrate with a&nbsp\;Grand Opening and Ribbon Cutting for Central Bank of Oklahoma.&nbsp\;</strong></span></span>&nbsp\;Community-oriented financial service provider. We have six full-service locations in the greater Tulsa metropolitan area\, including the communities of South Oklahoma City\, Owasso\, Sapulpa\, Stillwater and Edmond. Strong Bank. Endless Possibilities&nbsp\;<br />\n<br />\n<span style="font-size: 14px\;"><span style="font-family: tahoma\;"><strong>Ribbon Cutting Sponsor:&nbsp\;Oklahoma City Energy&nbsp\;FC</strong></span></span></p>\n
LOCATION:Central Bank of Oklahoma 8700 South Pennsylvania Avenue\, 73159
UID:e.435.31934
SEQUENCE:3
DTSTAMP:20260420T114003Z
URL:https://business.southokc.com/events/details/grand-opening-ribbon-cutting-central-bank-of-oklahoma-31934
END:VEVENT

END:VCALENDAR
