BEGIN:VCALENDAR
VERSION:2.0
PRODID:-//ChamberMaster//Event Calendar 2.0//EN
METHOD:PUBLISH
X-PUBLISHED-TTL:P3D
REFRESH-INTERVAL:P3D
CALSCALE:GREGORIAN
BEGIN:VEVENT
DTSTART:20210701T200000Z
DTEND:20210701T213000Z
X-MICROSOFT-CDO-ALLDAYEVENT:FALSE
SUMMARY:Grand Opening and Ribbon Cutting for Dr. Janet Fanning\, M.D.\, P.C.
DESCRIPTION:It's time to celebrate with a Grand Re-Opening and Ribbon Cutting for Janet Fanning\, MD\, PC and Brook A Walling APRN-CNP.  Join us as we officially open their new clinic located on SW 89th Street!  Plan to stop by and check out her new office all while enjoying the networking.  There will be plenty of complimentary refreshments provided by Dr Fanning\, Armstrong Bank\, HTeaO and ITS---the Best! \n\n\n\nThis will be held in conjunction with the combined Seriously Fun / Dream Team meeting and be part of their Summer Jigsaw Puzzle Contest.  There will be a drawing for a $25.00 gift card provided by Armstrong Bank at 4:15 pm.\nRibbon Cutting Sponsor: Energy FC
X-ALT-DESC;FMTTYPE=text/html:<p class="yiv6010923375msonormal"><b>It&#39\;s time to celebrate with a Grand Re-Opening and <span class="yiv6010923375gmail-il">Ribbon</span> <span class="yiv6010923375gmail-il">Cutting</span> for Janet Fanning\, MD\, PC and Brook A Walling APRN-CNP.&nbsp\;</b> Join us as we officially open their new clinic located on SW 89th Street!&nbsp\; Plan to stop by and check out her new office all while enjoying the networking.&nbsp\; There will be plenty of complimentary refreshments provided by Dr Fanning\, Armstrong Bank\, HTeaO and ITS---the Best!&nbsp\;<br />\n<br />\nThis will be held in conjunction with the combined Seriously Fun / Dream Team meeting and be part of their Summer Jigsaw Puzzle Contest.&nbsp\; There will be a drawing for a $25.00 gift card provided by Armstrong Bank at 4:15 pm.<o:p></o:p></p>\n<strong>Ribbon Cutting Sponsor: Energy FC</strong><br />\n&nbsp\;
LOCATION:Dr Janet Fanning M.D.\, P.C. 937 Southwest 89 Street\, Suite A\, 73139 (just west of South Western Avenue)
UID:e.435.30591
SEQUENCE:3
DTSTAMP:20260423T030801Z
URL:https://business.southokc.com/events/details/grand-opening-and-ribbon-cutting-for-dr-janet-fanning-m-d-p-c-30591
END:VEVENT

END:VCALENDAR
