BEGIN:VCALENDAR
VERSION:2.0
PRODID:-//ChamberMaster//Event Calendar 2.0//EN
METHOD:PUBLISH
X-PUBLISHED-TTL:P3D
REFRESH-INTERVAL:P3D
CALSCALE:GREGORIAN
BEGIN:VEVENT
DTSTART:20240805T180000Z
DTEND:20240805T200000Z
X-MICROSOFT-CDO-ALLDAYEVENT:FALSE
SUMMARY:First Monday with Don Lorg By Prime Realty
DESCRIPTION:Realtors!\n\nAre you still trying to navigate our upcoming changes?\n\nIf so\, this class is for you!\n\n\n\n"Buyer Broker Service Agreement and\n\nRelated Forms Changes Summer 2024"\n\n\n\nSponsored by Wade Svetgoff with No Place Like Home
X-ALT-DESC;FMTTYPE=text/html:<div style="text-align: center\;"><span style="font-size:18px"><span style="font-family:comic sans ms">Realtors!<br />\nAre you still trying to navigate our upcoming changes?<br />\nIf so\, this class is for you!</span></span><br />\n<br />\n<strong><span style="font-size:24px"><span style="font-family:verdana"><span style="font-family:tahoma"><em>&quot\;Buyer Broker Service Agreement and<br />\nRelated Forms Changes Summer 2024&quot\;</em></span></span></span></strong><br />\n<br />\n<span style="font-size:16px">Sponsored by Wade Svetgoff with No Place Like Home</span></div>\n
LOCATION:South Okc Chamber of Commerce 704 SW 74th St Oklahoma City
UID:e.435.35835
SEQUENCE:3
DTSTAMP:20260421T021325Z
URL:https://business.southokc.com/events/details/first-monday-with-don-lorg-by-prime-realty-08-05-2024-35835
END:VEVENT

END:VCALENDAR
