BEGIN:VCALENDAR
VERSION:2.0
PRODID:-//ChamberMaster//Event Calendar 2.0//EN
METHOD:PUBLISH
X-PUBLISHED-TTL:P3D
REFRESH-INTERVAL:P3D
CALSCALE:GREGORIAN
BEGIN:VEVENT
DTSTART;VALUE=DATE:20230202
DTEND;VALUE=DATE:20230301
TRANSP:TRANSPARENT
X-MICROSOFT-CDO-ALLDAYEVENT:TRUE
SUMMARY:February Networking Opportunities 1st Thursday's\, 2nd Wednesday's & 3rd Friday's every Month!
DESCRIPTION:Our networking groups invite Chamber members\n\nto join them for fun\, food\, and connections. \n\nThere is no cost to participate in the networking sessions! \n\nThe only cost is the food and beverages which you purchase.\n\nAny South OKC Chamber member can attend\, \n\nnon-members are also invited to attend to learn about the Chamber.\n\nPlease remember to REGISTER below!\n\n\n\nSeriously Fun\n\nFebruary 2\n\n3:30 to 4:30 p.m.\n\nClick here to register!\n\n\n\nDream Team\n\nFebruary 8\n\n11:30 a.m. to 12:30 p.m.\n\nClick here to register!\n\n\n\nCoffee & Commerce\n\nFebruary 17\n\n8:15 a.m. to 9:15 a.m.\n\nClick here to register!
X-ALT-DESC;FMTTYPE=text/html:<div style="text-align: center\;"><span style="font-size:18px\;"><span style="font-size:22px\;">Our networking groups invite Chamber members<br />\nto join them for fun\, food\, and connections.&nbsp\;</span><br />\nThere is no cost to participate in the networking sessions!&nbsp\;<br />\nThe only cost is the food and beverages which you purchase.<br />\nAny South OKC Chamber member can attend\,&nbsp\;<br />\nnon-members are also invited to attend&nbsp\;to learn about the Chamber.</span></div>\n\n<div style="text-align: center\;"><strong><span style="font-size:18px\;">Please remember to REGISTER below!</span></strong><br />\n<br />\n<strong><span style="font-size:18px\;">Seriously Fun</span></strong><br />\nFebruary 2<br />\n3:30 to 4:30 p.m.<br />\n<a href="mailto:jamiecrowe@southokc.com\; tfry@oasis.tech\;BDoyal@ShelterInsurance.com\; mkrobinsonconsulting@gmail.com?subject=RSVP%20-%20Seriously%20Fun&amp\;body=I'm%20interested%20in%20attending%20this%20networking%20meeting.%0A%0A3%3A30%20p.m.%20to%204%3A30%20p.m.%0A%0ASeriously%20Fun%0AHarborChase%20of%20South%20OKC%0A10801%20South%20May%20Avenue%2C%2073170%0A"><span style="color:#0000FF\;"><span background-color:="" font-size:="" text-align:="" trebuchet="">Click here to r</span><span background-color:="" font-size:="" text-align:="" trebuchet="">egister!</span></span></a><br />\n<br />\n<strong><span style="font-size:18px\;">Dream Team</span></strong><br />\nFebruary 8<br />\n11:30 a.m. to 12:30 p.m.<br />\n<a href="mailto: jamiecrowe@southokc.com\; tfry@oasis.tech\;BDoyal@ShelterInsurance.com\; mkrobinsonconsulting@gmail.com?subject=RSVP%20-%20Dream%20Team&amp\;body=I'm%20interested%20in%20attending%20this%20networking%20meeting.%20%0A%0A11%3A30%20p.m.%20to%2012%3A30%20p.m.%0A%0ADream%20Team%0AGranny's%20Kitchen%0A9101%20South%20Penn.%20Avenue%2C%2073159"><span style="color:#0000FF\;">Click here to register!</span></a><br />\n<br />\n<span style="font-size:18px\;"><strong>Coffee &amp\; Commerce</strong></span><br />\nFebruary 17<br />\n8:15&nbsp\;a.m. to 9:15&nbsp\;a.m.<br />\n<a href="mailto:jamiecrowe@southokc.com\; tfry@oasis.tech\;BDoyal@ShelterInsurance.com\; mkrobinsonconsulting@gmail.com?subject=RSVP%20-%20Coffee%20%26%20Commerce&amp\;body=I'm%20interested%20in%20attending%20this%20networking%20meeting.%0A%0A8%3A15%20a.m.%20to%209%3A15%20a.m.%0A%0ACoffee%20%26%20Commerce%0ABest%20Western%20Saddleback%20Inn%20%26%20Conference%20Center%0A4300%20Southwest%20Third%20Street%2C%2073108"><span style="color:#0000FF\;">Click here to register!</span></a></div>\n\n<div style="text-align: center\;">&nbsp\;</div>\n
LOCATION:Seriously Fun HarborChase of South OKC 10801 South May Avenue\, 73170 Dream Team Granny's Kitchen 9101 South Pennsylvania Avenue\, 73159 Coffee & Commerce Best Western Saddleback Inn & Conference Center 4300 Southwest Third Street\, 73108
UID:e.435.33387
SEQUENCE:3
DTSTAMP:20260420T142358Z
URL:https://business.southokc.com/events/details/february-networking-opportunities-1st-thursday-s-2nd-wednesday-s-3rd-friday-s-every-month-33387
END:VEVENT

END:VCALENDAR
