BEGIN:VCALENDAR
VERSION:2.0
PRODID:-//ChamberMaster//Event Calendar 2.0//EN
METHOD:PUBLISH
X-PUBLISHED-TTL:P3D
REFRESH-INTERVAL:P3D
CALSCALE:GREGORIAN
BEGIN:VEVENT
DTSTART:20240131T210000Z
DTEND:20240131T230000Z
X-MICROSOFT-CDO-ALLDAYEVENT:FALSE
SUMMARY:Education Banquet Committee Meeting
DESCRIPTION:The Excellence in Education Banquet is a Chamber-sponsored event\, where many awards and scholarships are given to teachers\, students\, and administrators. The Banquet will be held on April 25\, 2024\, and we need a dedicated group of volunteers to help with the planning of this event. This will be a planning session for the Education Banquet Committee.\n\n\n\nIf you are interested in serving on this committee and attending this meeting\, please contact Abbi Fuller at abbifuller@southokc.com or by phone (405) 634-1436.
X-ALT-DESC;FMTTYPE=text/html:The Excellence in Education Banquet is a Chamber-sponsored event\, where many awards and scholarships are given to teachers\, students\, and administrators. The Banquet will be held on April 25\, 2024\, and we need a dedicated group of volunteers to help with the planning of this event. This will be a planning session for the Education Banquet Committee.<br />\n<br />\nIf you are interested in serving on this committee and attending this meeting\, please contact Abbi Fuller at abbifuller@southokc.com or by phone (405) 634-1436.&nbsp\;
LOCATION:South OKC Chamber of Commerce 701 Southwest 74 Street\, 73139
UID:e.435.34896
SEQUENCE:3
DTSTAMP:20260421T001517Z
URL:https://business.southokc.com/events/details/education-banquet-committee-meeting-34896
END:VEVENT

END:VCALENDAR
