BEGIN:VCALENDAR
VERSION:2.0
PRODID:-//ChamberMaster//Event Calendar 2.0//EN
METHOD:PUBLISH
X-PUBLISHED-TTL:P3D
REFRESH-INTERVAL:P3D
CALSCALE:GREGORIAN
BEGIN:VEVENT
DTSTART:20250401T123000Z
DTEND:20250401T140000Z
X-MICROSOFT-CDO-ALLDAYEVENT:FALSE
SUMMARY:City Connection with Councilwoman JoBeth Hamon and OKC Homeless Services/Key to Home
DESCRIPTION:Join us for our upcoming City Connection event\, featuring Ward 6 Councilwoman JoBeth Hamon and representatives from OKC Homeless Services/Key to Home. This is a valuable opportunity to hear updates on the city's efforts to address homelessness\, ask questions\, and connect with local leaders who are working to support our community.\n\n\n\nPresenting Sponsor: Payroll Vault\n\nGold Sponsors: Lynn Institute of Health Research\, Oklahoma Natural Gas\, and Tyler Media\n\nSilver Sponsors: Carvana\, Jones PR\; OG&E\; Oklahoma Municipal Contractors Association\;  Voorhees & Grant\, P.A.\; and Wheeler District\n\nHost Sponsor:  Frontier State Bank
X-ALT-DESC;FMTTYPE=text/html:Join us for our upcoming <strong data-end="121" data-start="102">City Connection</strong> event\, featuring <strong data-end="175" data-start="139">Ward 6 Councilwoman JoBeth Hamon</strong> and representatives from <strong data-end="238" data-start="201">OKC Homeless Services/Key to Home</strong>. This is a valuable opportunity to hear updates on the city&#39\;s efforts to address homelessness\, ask questions\, and connect with local leaders who are working to support our community.<br />\n<br />\n<u>Presenting Sponsor:</u> Payroll Vault<br />\n<u>Gold Sponsors:</u> Lynn Institute of Health Research\, Oklahoma Natural Gas\, and Tyler Media<br />\n<u>Silver Sponsors:</u>&nbsp\;Carvana\, Jones PR\; OG&amp\;E\; Oklahoma Municipal Contractors Association\;&nbsp\; Voorhees &amp\; Grant\, P.A.\; and Wheeler District<br />\n<u>Host Sponsor</u>:&nbsp\; Frontier State Bank<br />\n&nbsp\;
LOCATION:Frontier State Bank 4th Floor of Loan Center 5100 South I-35 Service Road\, 73129
UID:e.435.36503
SEQUENCE:3
DTSTAMP:20260421T180224Z
URL:https://business.southokc.com/events/details/city-connection-with-councilwoman-jobeth-hamon-and-okc-homeless-services-key-to-home-36503
END:VEVENT

END:VCALENDAR
