BEGIN:VCALENDAR
VERSION:2.0
PRODID:-//ChamberMaster//Event Calendar 2.0//EN
METHOD:PUBLISH
X-PUBLISHED-TTL:P3D
REFRESH-INTERVAL:P3D
CALSCALE:GREGORIAN
BEGIN:VEVENT
DTSTART:20260430T140000Z
DTEND:20260430T220000Z
X-MICROSOFT-CDO-ALLDAYEVENT:FALSE
SUMMARY:Central Bank's Paper Shred Day
DESCRIPTION:CENTRAL BANK\n\n\n\n\n\nPAPER SHRED\n\n\n\nDAY\n\n\n\nTHURSDAY\, APRIL 30\, 2026
X-ALT-DESC;FMTTYPE=text/html:<div style="text-align:center"><font face="arial\, helvetica\, sans-serif"><span style="font-size:36px"><strong><span style="font-size:48px\;">CENTRAL BANK</span><br />\n<br />\n<br />\n<span style="font-size:72px"><span style="color:#FFFFFF"><span style="background-color:#008000">PAPER SHRED<br />\n<br />\nDAY</span></span></span><br />\n<br />\nTHURSDAY\, APRIL 30\, 2026</strong></span></font></div>\n
LOCATION:SOUTH OKC 9-11am 8700 South Pennsylvania Avenue Oklahoma City\, OK 73159 NORTH MAY 12-2pm 5701 North May Avenue Oklahoma City OK 73112 EDMOND 3-5pm 3032 East Second Street Edmond\, OK 73034
UID:e.435.37494
SEQUENCE:3
DTSTAMP:20260424T195516Z
URL:https://business.southokc.com/events/details/central-bank-s-paper-shred-day-37494
END:VEVENT

END:VCALENDAR
