BEGIN:VCALENDAR
VERSION:2.0
PRODID:-//ChamberMaster//Event Calendar 2.0//EN
METHOD:PUBLISH
X-PUBLISHED-TTL:P3D
REFRESH-INTERVAL:P3D
CALSCALE:GREGORIAN
BEGIN:VEVENT
DTSTART:20240313T163000Z
DTEND:20240313T173000Z
X-MICROSOFT-CDO-ALLDAYEVENT:FALSE
SUMMARY:Business Networking Lunch
DESCRIPTION:This is one of the Chamber's networking groups.  Come join us\, we meet for lunch each month at one of the Chamber-member restaurants.  We always have a round of self-introductions and open networking. \n\n\n\nPre-register on the Monday Morning Memo or the Chamber's online calendar so that we can prepare appropriately!
X-ALT-DESC;FMTTYPE=text/html:This is one of the Chamber&#39\;s networking groups.&nbsp\; Come join us\, we meet for lunch each month at one of the Chamber-member restaurants.&nbsp\; We always have a round of self-introductions and open networking.&nbsp\;<br />\n<br />\nPre-register on the Monday Morning Memo or the Chamber&#39\;s online calendar so that we can prepare appropriately!
LOCATION:The Crab and Catfish Company 809 Southwest 119 Street\, 73170
UID:e.435.34885
SEQUENCE:3
DTSTAMP:20260421T071545Z
URL:https://business.southokc.com/events/details/business-networking-lunch-03-13-2024-34885
END:VEVENT

END:VCALENDAR
