BEGIN:VCALENDAR
VERSION:2.0
PRODID:-//ChamberMaster//Event Calendar 2.0//EN
METHOD:PUBLISH
X-PUBLISHED-TTL:P3D
REFRESH-INTERVAL:P3D
CALSCALE:GREGORIAN
BEGIN:VEVENT
DTSTART;VALUE=DATE:20240701
DTEND;VALUE=DATE:20240824
TRANSP:TRANSPARENT
X-MICROSOFT-CDO-ALLDAYEVENT:TRUE
SUMMARY:Applications Available for TEAM South - Class XVII
DESCRIPTION:Are you a business professional living\, working\, or interested in South Oklahoma City? Apply now for TEAM South Class XVII! TEAM South is the South OKC Chamber's leadership and community awareness program. Our mission is to empower South OKC leaders with opportunities\, knowledge\, and networks focused on the culture\, business\, and resources of this vibrant community.\n\n\n\nEach class consists of participants who are invested in the area and eager to learn what makes our community exceptional. Through monthly all-day sessions\, participants explore various aspects of our amazing\, growing city\, from Education to Aerospace. TEAM South is a fantastic way to connect with your community\, network with other leaders\, and expand your knowledge of this region.\n\n\n\nThis program requires a significant commitment of time. If you are unable to attend all sessions\, please refrain from applying. Don't miss this chance to become a better-educated advocate for South Oklahoma City and to engage with fellow business leaders!\n\n\n\nPresenting Sponsor: Moore Norman Technology Center\n\nGold Sponsor: Oklahoma City Community College\n\n\n\nYour completed application and a professional headshot are due to Elizabeth Fox by Friday\, August 23\, at 5 p.m.\n\n\n\nOnly 25 participants will be selected for TEAM South Class XVII. Don't wait to apply!\n\n\n\nClick HERE to download application or visit https://www.southokc.com/team-south/ \n\n\n\nCLASS XVII Schedule:\n\n\n\nOctober 10   Orientation Day\n\nNovember 14   Education Day\n\nDecember 5   Community Service & Non-Profit Day\n\nJanuary 16 or 23   Hidden Gems Day\n\nFebruary 13   Health & Wellness Day\n\nMarch 13   Aerospace Day\n\nApril 24   Public Safety\, Government\, and Graduation Day\n\n\n\n*Each session is one full day\, typically running from 8 a.m.   5 p.m. As with all worthwhile endeavors\, this program requires a definite commitment of time on the part of each participant. If you are unable to attend ALL SESSIONS\, please do not apply.
X-ALT-DESC;FMTTYPE=text/html:Are you a business professional living\, working\, or interested in South Oklahoma City? Apply now for TEAM South Class XVII! TEAM South is the South OKC Chamber&rsquo\;s leadership and community awareness program. Our mission is to empower South OKC leaders with opportunities\, knowledge\, and networks focused on the culture\, business\, and resources of this vibrant community.<br />\n<br />\nEach class consists of participants who are invested in the area and eager to learn what makes our community exceptional. Through monthly all-day sessions\, participants explore various aspects of our amazing\, growing city\, from Education to Aerospace. TEAM South is a fantastic way to connect with your community\, network with other leaders\, and expand your knowledge of this region.<br />\n<br />\nThis program requires a significant commitment of time. If you are unable to attend all sessions\, please refrain from applying. Don&#39\;t miss this chance to become a better-educated advocate for South Oklahoma City and to engage with fellow business leaders!<br />\n<br />\n<strong>Presenting Sponsor:</strong> Moore Norman Technology Center<br />\n<strong>Gold Sponsor:</strong> Oklahoma City Community College<br />\n<br />\nYour completed application and&nbsp\;a professional headshot&nbsp\;are due to Elizabeth Fox by Friday\, August 23\, at&nbsp\;5 p.m.<br />\n<br />\nOnly 25 participants will be selected for TEAM South Class XVII. Don&#39\;t wait to apply!<br />\n<br />\nClick <a href="https://chambermaster.blob.core.windows.net/userfiles/UserFiles/chambers/435/File/Fillable_TS_Application_ClassXVII.pdf">HERE</a> to download application or visit&nbsp\;<a href="https://www.southokc.com/team-south/">https://www.southokc.com/team-south/</a>&nbsp\;<br />\n<br />\n<strong>CLASS XVII Schedule:</strong><br />\n<br />\nOctober 10 &ndash\; Orientation Day<br />\nNovember 14 &ndash\; Education Day<br />\nDecember 5 &ndash\; Community Service &amp\; Non-Profit Day<br />\nJanuary 16 or 23 &ndash\; Hidden Gems Day<br />\nFebruary 13 &ndash\; Health &amp\; Wellness Day<br />\nMarch 13 &ndash\; Aerospace Day<br />\nApril 24 &ndash\; Public Safety\, Government\, and Graduation Day<br />\n<br />\n*Each session is one full day\, typically running from 8 a.m. &ndash\; 5 p.m. As with all worthwhile endeavors\, this program requires a definite commitment of time on the part of each participant. If you are unable to attend ALL SESSIONS\, please do not apply.
LOCATION:
UID:e.435.35801
SEQUENCE:3
DTSTAMP:20260424T222300Z
URL:https://business.southokc.com/events/details/applications-available-for-team-south-class-xvii-35801
END:VEVENT

END:VCALENDAR
