BEGIN:VCALENDAR
VERSION:2.0
PRODID:-//ChamberMaster//Event Calendar 2.0//EN
METHOD:PUBLISH
X-PUBLISHED-TTL:P3D
REFRESH-INTERVAL:P3D
CALSCALE:GREGORIAN
BEGIN:VEVENT
DTSTART:20200117T003000Z
DTEND:20200117T033000Z
X-MICROSOFT-CDO-ALLDAYEVENT:FALSE
SUMMARY:Annual Banquet Celebrating 2019 in 2020
DESCRIPTION:Join us for an evening of celebration for the new year! The Annual Banquet serves as the installation ceremony for the 2020 Board of Directors\, as well as an award ceremony to recognize the 2019 Volunteer of the Year\, Ambassador of the Year\, Citizen of the Year\, and our Native Oklahoman Jazz Hall of Famer\, Justin Echols! He is a dynamic piano vocalist and a true entertainer who creates an immediate connection to audiences from small clubs all the way to international stages. You won't want to miss this opportunity!\n\n\n\nFor more information\, or to secure your seat\, please contact Angela Fusselman at angelafusselman@southokc.com or (405) 634-1436.\n\n\n\nPresenting Sponsor: AT&T\n\nNative Son Sponsor: Women of the South\n\nCitizen of the Year Sponsor: Cox Business\n\nGold Sponsors: Walmart - South OKC Supercenters and Tyler Media\n\nSilver Sponsors: First United Bank & Trust\; Mercy\; Metro Technology Centers\; MidFirst Bank\; Moore Norman Technology Center\; Norman Regional Health System\; Prosperity Bank\; Republic Bank & Trust\; and Reynolds Ford\n\nVolunteer of the Year Sponsor: McIntyre Law\, P.C.\n\nAmbassador of the Year Sponsor: Resthaven Funeral Home & Memory Gardens\n\nWine Sponsor: Moore Funeral & Cremation\n\nCenterpiece Sponsor: Senator Kay Floyd\n\nSnapchat Filter Sponsor: OKC Police Athletic League
X-ALT-DESC;FMTTYPE=text/html:<div style="margin: 0in 0in 0pt\;">Join us for an evening of celebration for the new year! The Annual Banquet serves as the installation ceremony for the 2020 Board of Directors\, as well as an award ceremony&nbsp\;to recognize the 2019 Volunteer of the Year\, Ambassador of the Year\, Citizen of the Year\, and our Native Oklahoman Jazz Hall of Famer\, Justin Echols! He is a dynamic piano vocalist and a true entertainer who creates an immediate connection to audiences from small clubs all the way to international stages. You won&#39\;t want to miss this opportunity!<br />\n<br />\nFor more information\, or to secure your seat\, please contact Angela Fusselman at <a href="mailto:angelafusselman@southokc.com ?subject=South%20OKC%20Chamber%20Banquet&amp\;body=I%20wanted%20to%20reply%20to%20the%20South%20OKC%20Chamber's%20Annual%20Banquet%20email...%20">angelafusselman@southokc.com </a>or (405) 634-1436.<br />\n<br />\n<u style="color: rgb(0\, 0\, 0)\; font-family: Roboto\, sans-serif\; font-size: 12px\; font-style: normal\; font-variant-caps: normal\; font-weight: normal\; letter-spacing: normal\; orphans: auto\; text-align: start\; text-indent: 0px\; text-transform: none\; white-space: normal\; widows: auto\; word-spacing: 0px\; -webkit-text-size-adjust: auto\; -webkit-text-stroke-width: 0px\;">Presenting Sponsor</u><span style="color: rgb(0\, 0\, 0)\; font-family: Roboto\, sans-serif\; font-size: 12px\; font-style: normal\; font-variant-caps: normal\; font-weight: normal\; letter-spacing: normal\; orphans: auto\; text-align: start\; text-indent: 0px\; text-transform: none\; white-space: normal\; widows: auto\; word-spacing: 0px\; -webkit-text-size-adjust: auto\; -webkit-text-stroke-width: 0px\; display: inline !important\; float: none\;">: AT&amp\;T</span><br style="color: rgb(0\, 0\, 0)\; font-family: Roboto\, sans-serif\; font-size: 12px\; font-style: normal\; font-variant-caps: normal\; font-weight: normal\; letter-spacing: normal\; orphans: auto\; text-align: start\; text-indent: 0px\; text-transform: none\; white-space: normal\; widows: auto\; word-spacing: 0px\; -webkit-text-size-adjust: auto\; -webkit-text-stroke-width: 0px\;" />\n<u style="color: rgb(0\, 0\, 0)\; font-family: Roboto\, sans-serif\; font-size: 12px\; font-style: normal\; font-variant-caps: normal\; font-weight: normal\; letter-spacing: normal\; orphans: auto\; text-align: start\; text-indent: 0px\; text-transform: none\; white-space: normal\; widows: auto\; word-spacing: 0px\; -webkit-text-size-adjust: auto\; -webkit-text-stroke-width: 0px\;">Native Son Sponsor</u><span style="color: rgb(0\, 0\, 0)\; font-family: Roboto\, sans-serif\; font-size: 12px\; font-style: normal\; font-variant-caps: normal\; font-weight: normal\; letter-spacing: normal\; orphans: auto\; text-align: start\; text-indent: 0px\; text-transform: none\; white-space: normal\; widows: auto\; word-spacing: 0px\; -webkit-text-size-adjust: auto\; -webkit-text-stroke-width: 0px\; display: inline !important\; float: none\;">: Women of the South</span><br style="color: rgb(0\, 0\, 0)\; font-family: Roboto\, sans-serif\; font-size: 12px\; font-style: normal\; font-variant-caps: normal\; font-weight: normal\; letter-spacing: normal\; orphans: auto\; text-align: start\; text-indent: 0px\; text-transform: none\; white-space: normal\; widows: auto\; word-spacing: 0px\; -webkit-text-size-adjust: auto\; -webkit-text-stroke-width: 0px\;" />\n<u style="color: rgb(0\, 0\, 0)\; font-family: Roboto\, sans-serif\; font-size: 12px\; font-style: normal\; font-variant-caps: normal\; font-weight: normal\; letter-spacing: normal\; orphans: auto\; text-align: start\; text-indent: 0px\; text-transform: none\; white-space: normal\; widows: auto\; word-spacing: 0px\; -webkit-text-size-adjust: auto\; -webkit-text-stroke-width: 0px\;">Citizen of the Year Sponsor:</u><span style="color: rgb(0\, 0\, 0)\; font-family: Roboto\, sans-serif\; font-size: 12px\; font-style: normal\; font-variant-caps: normal\; font-weight: normal\; letter-spacing: normal\; orphans: auto\; text-align: start\; text-indent: 0px\; text-transform: none\; white-space: normal\; widows: auto\; word-spacing: 0px\; -webkit-text-size-adjust: auto\; -webkit-text-stroke-width: 0px\; display: inline !important\; float: none\;"> Cox Business</span><br style="color: rgb(0\, 0\, 0)\; font-family: Roboto\, sans-serif\; font-size: 12px\; font-style: normal\; font-variant-caps: normal\; font-weight: normal\; letter-spacing: normal\; orphans: auto\; text-align: start\; text-indent: 0px\; text-transform: none\; white-space: normal\; widows: auto\; word-spacing: 0px\; -webkit-text-size-adjust: auto\; -webkit-text-stroke-width: 0px\;" />\n<u style="color: rgb(0\, 0\, 0)\; font-family: Roboto\, sans-serif\; font-size: 12px\; font-style: normal\; font-variant-caps: normal\; font-weight: normal\; letter-spacing: normal\; orphans: auto\; text-align: start\; text-indent: 0px\; text-transform: none\; white-space: normal\; widows: auto\; word-spacing: 0px\; -webkit-text-size-adjust: auto\; -webkit-text-stroke-width: 0px\;">Gold Sponsors</u><span style="color: rgb(0\, 0\, 0)\; font-family: Roboto\, sans-serif\; font-size: 12px\; font-style: normal\; font-variant-caps: normal\; font-weight: normal\; letter-spacing: normal\; orphans: auto\; text-align: start\; text-indent: 0px\; text-transform: none\; white-space: normal\; widows: auto\; word-spacing: 0px\; -webkit-text-size-adjust: auto\; -webkit-text-stroke-width: 0px\; display: inline !important\; float: none\;">: Walmart - South OKC Supercenters and Tyler Media</span><br style="color: rgb(0\, 0\, 0)\; font-family: Roboto\, sans-serif\; font-size: 12px\; font-style: normal\; font-variant-caps: normal\; font-weight: normal\; letter-spacing: normal\; orphans: auto\; text-align: start\; text-indent: 0px\; text-transform: none\; white-space: normal\; widows: auto\; word-spacing: 0px\; -webkit-text-size-adjust: auto\; -webkit-text-stroke-width: 0px\;" />\n<u style="color: rgb(0\, 0\, 0)\; font-family: Roboto\, sans-serif\; font-size: 12px\; font-style: normal\; font-variant-caps: normal\; font-weight: normal\; letter-spacing: normal\; orphans: auto\; text-align: start\; text-indent: 0px\; text-transform: none\; white-space: normal\; widows: auto\; word-spacing: 0px\; -webkit-text-size-adjust: auto\; -webkit-text-stroke-width: 0px\;">Silver Sponsors</u><span style="color: rgb(0\, 0\, 0)\; font-family: Roboto\, sans-serif\; font-size: 12px\; font-style: normal\; font-variant-caps: normal\; font-weight: normal\; letter-spacing: normal\; orphans: auto\; text-align: start\; text-indent: 0px\; text-transform: none\; white-space: normal\; widows: auto\; word-spacing: 0px\; -webkit-text-size-adjust: auto\; -webkit-text-stroke-width: 0px\; display: inline !important\; float: none\;">: First United Bank &amp\; Trust\; Mercy\; Metro Technology Centers\; MidFirst Bank\; Moore Norman Technology Center\; Norman Regional Health System\; Prosperity Bank\; Republic Bank &amp\; Trust\; and Reynolds Ford</span><br style="color: rgb(0\, 0\, 0)\; font-family: Roboto\, sans-serif\; font-size: 12px\; font-style: normal\; font-variant-caps: normal\; font-weight: normal\; letter-spacing: normal\; orphans: auto\; text-align: start\; text-indent: 0px\; text-transform: none\; white-space: normal\; widows: auto\; word-spacing: 0px\; -webkit-text-size-adjust: auto\; -webkit-text-stroke-width: 0px\;" />\n<u style="color: rgb(0\, 0\, 0)\; font-family: Roboto\, sans-serif\; font-size: 12px\; font-style: normal\; font-variant-caps: normal\; font-weight: normal\; letter-spacing: normal\; orphans: auto\; text-align: start\; text-indent: 0px\; text-transform: none\; white-space: normal\; widows: auto\; word-spacing: 0px\; -webkit-text-size-adjust: auto\; -webkit-text-stroke-width: 0px\;">Volunteer of the Year Sponsor</u><span style="color: rgb(0\, 0\, 0)\; font-family: Roboto\, sans-serif\; font-size: 12px\; font-style: normal\; font-variant-caps: normal\; font-weight: normal\; letter-spacing: normal\; orphans: auto\; text-align: start\; text-indent: 0px\; text-transform: none\; white-space: normal\; widows: auto\; word-spacing: 0px\; -webkit-text-size-adjust: auto\; -webkit-text-stroke-width: 0px\; display: inline !important\; float: none\;">: McIntyre Law\, P.C.</span><br style="color: rgb(0\, 0\, 0)\; font-family: Roboto\, sans-serif\; font-size: 12px\; font-style: normal\; font-variant-caps: normal\; font-weight: normal\; letter-spacing: normal\; orphans: auto\; text-align: start\; text-indent: 0px\; text-transform: none\; white-space: normal\; widows: auto\; word-spacing: 0px\; -webkit-text-size-adjust: auto\; -webkit-text-stroke-width: 0px\;" />\n<u style="color: rgb(0\, 0\, 0)\; font-family: Roboto\, sans-serif\; font-size: 12px\; font-style: normal\; font-variant-caps: normal\; font-weight: normal\; letter-spacing: normal\; orphans: auto\; text-align: start\; text-indent: 0px\; text-transform: none\; white-space: normal\; widows: auto\; word-spacing: 0px\; -webkit-text-size-adjust: auto\; -webkit-text-stroke-width: 0px\;">Ambassador of the Year Sponsor:</u><span style="color: rgb(0\, 0\, 0)\; font-family: Roboto\, sans-serif\; font-size: 12px\; font-style: normal\; font-variant-caps: normal\; font-weight: normal\; letter-spacing: normal\; orphans: auto\; text-align: start\; text-indent: 0px\; text-transform: none\; white-space: normal\; widows: auto\; word-spacing: 0px\; -webkit-text-size-adjust: auto\; -webkit-text-stroke-width: 0px\; display: inline !important\; float: none\;"> Resthaven Funeral Home &amp\; Memory Gardens</span><br style="color: rgb(0\, 0\, 0)\; font-family: Roboto\, sans-serif\; font-size: 12px\; font-style: normal\; font-variant-caps: normal\; font-weight: normal\; letter-spacing: normal\; orphans: auto\; text-align: start\; text-indent: 0px\; text-transform: none\; white-space: normal\; widows: auto\; word-spacing: 0px\; -webkit-text-size-adjust: auto\; -webkit-text-stroke-width: 0px\;" />\n<u style="color: rgb(0\, 0\, 0)\; font-family: Roboto\, sans-serif\; font-size: 12px\; font-style: normal\; font-variant-caps: normal\; font-weight: normal\; letter-spacing: normal\; orphans: auto\; text-align: start\; text-indent: 0px\; text-transform: none\; white-space: normal\; widows: auto\; word-spacing: 0px\; -webkit-text-size-adjust: auto\; -webkit-text-stroke-width: 0px\;">Wine Sponsor</u><span style="color: rgb(0\, 0\, 0)\; font-family: Roboto\, sans-serif\; font-size: 12px\; font-style: normal\; font-variant-caps: normal\; font-weight: normal\; letter-spacing: normal\; orphans: auto\; text-align: start\; text-indent: 0px\; text-transform: none\; white-space: normal\; widows: auto\; word-spacing: 0px\; -webkit-text-size-adjust: auto\; -webkit-text-stroke-width: 0px\; display: inline !important\; float: none\;">: Moore Funeral &amp\; Cremation</span><br style="color: rgb(0\, 0\, 0)\; font-family: Roboto\, sans-serif\; font-size: 12px\; font-style: normal\; font-variant-caps: normal\; font-weight: normal\; letter-spacing: normal\; orphans: auto\; text-align: start\; text-indent: 0px\; text-transform: none\; white-space: normal\; widows: auto\; word-spacing: 0px\; -webkit-text-size-adjust: auto\; -webkit-text-stroke-width: 0px\;" />\n<u style="color: rgb(0\, 0\, 0)\; font-family: Roboto\, sans-serif\; font-size: 12px\; font-style: normal\; font-variant-caps: normal\; font-weight: normal\; letter-spacing: normal\; orphans: auto\; text-align: start\; text-indent: 0px\; text-transform: none\; white-space: normal\; widows: auto\; word-spacing: 0px\; -webkit-text-size-adjust: auto\; -webkit-text-stroke-width: 0px\;">Centerpiece Sponsor</u><u style="color: rgb(0\, 0\, 0)\; font-family: Roboto\, sans-serif\; font-size: 12px\; font-style: normal\; font-variant-caps: normal\; font-weight: normal\; letter-spacing: normal\; orphans: auto\; text-align: start\; text-indent: 0px\; text-transform: none\; white-space: normal\; widows: auto\; word-spacing: 0px\; -webkit-text-size-adjust: auto\; -webkit-text-stroke-width: 0px\;">:</u> Senator Kay Floyd<br />\n<u style="color: rgb(0\, 0\, 0)\; font-family: Roboto\, sans-serif\; font-size: 12px\; font-style: normal\; font-variant-caps: normal\; font-weight: normal\; letter-spacing: normal\; orphans: auto\; text-align: start\; text-indent: 0px\; text-transform: none\; white-space: normal\; widows: auto\; word-spacing: 0px\; -webkit-text-size-adjust: auto\; -webkit-text-stroke-width: 0px\;">Snapchat Filter Sponsor</u><span style="color: rgb(0\, 0\, 0)\; font-family: Roboto\, sans-serif\; font-size: 12px\; font-style: normal\; font-variant-caps: normal\; font-weight: normal\; letter-spacing: normal\; orphans: auto\; text-align: start\; text-indent: 0px\; text-transform: none\; white-space: normal\; widows: auto\; word-spacing: 0px\; -webkit-text-size-adjust: auto\; -webkit-text-stroke-width: 0px\; display: inline !important\; float: none\;">: OKC Police Athletic League</span></div>\n
LOCATION:Embassy Suites by Hilton Oklahoma City Downtown Medical Center 741 North Phillips Avenue\, 73104
UID:e.435.23768
SEQUENCE:3
DTSTAMP:20260423T154011Z
URL:https://business.southokc.com/events/details/annual-banquet-celebrating-2019-in-2020-23768
END:VEVENT

END:VCALENDAR
