BEGIN:VCALENDAR
VERSION:2.0
PRODID:-//ChamberMaster//Event Calendar 2.0//EN
METHOD:PUBLISH
X-PUBLISHED-TTL:P3D
REFRESH-INTERVAL:P3D
CALSCALE:GREGORIAN
BEGIN:VEVENT
DTSTART:20180119T003000Z
DTEND:20180119T033000Z
X-MICROSOFT-CDO-ALLDAYEVENT:FALSE
SUMMARY:Annual Banquet Celebrating 2017 in 2018
DESCRIPTION:Join us for an evening of celebration! The Annual Banquet serves as the installation ceremony for the 2018 Board of Directors\, as well as an award ceremony to recognize the Volunteer of the Year\, Ambassador of the Year\, Citizen of the Year\, and our Native Daughter. This year's Native Daughter is award-winning reporter and author Anne Hillerman! We will also be honoring her late father\, New York Times bestselling author Tony Hillerman\, and his late brother\, renowned photographer Barney Hillerman.\n\n\n\nFor Sponsorship opportunities please contact Liz Cromwell at lizcromwell@southokc.com or (405) 634-1436\n\n \n\nSponsors for this event are as follows: \n\n \n\nPresenting Sponsor: AT&T\n\nGold Sponsors:  Advantage Bank\; Metro Technology Centers\; Tyler Media\; and Walmart\n\nSilver Sponsors: First United Bank & Trust\; INTEGRIS Southwest Medical Center\; Mercy\; MidFirst Bank\; Moore Norman Technology Center\; OKC Thunder\; and Republic Bank & Trust\n\nNative Daughter Award Sponsor:  Women of the South\n\nCitizen of the Year Award Sponsor: Cox Communications\n\nAmbassador of the Year Award Sponsor: Resthaven Funeral Home & Memory Gardens\n\nVolunteer of the Year Award Sponsor: P.B. Odom III Construction Company\n\nCenterpiece Sponsor: Dobson Technologies\n\nWine Sponsor: Moore Funeral & Cremation\n\nSnapchat Filter Sponsor: Norman Regional Health System
X-ALT-DESC;FMTTYPE=text/html:<div style="margin: 0in 0in 0pt\;">Join us for an evening of celebration! The Annual Banquet serves as the installation ceremony for the 2018 Board of Directors\, as well as an award ceremony&nbsp\;to recognize the Volunteer of the Year\, Ambassador of the Year\, Citizen of the Year\, and our Native Daughter. This year&rsquo\;s Native Daughter is award-winning reporter and author Anne Hillerman! We will also be honoring her late father\, New York Times bestselling author Tony Hillerman\, and his late brother\, renowned photographer Barney Hillerman.<br />\n<br />\nFor Sponsorship opportunities please contact Liz Cromwell at lizcromwell@southokc.com or (405) 634-1436<br />\n&nbsp\;</div>\n\n<div style="margin: 0in 0in 0pt\;">Sponsors for this event are as follows:&nbsp\;<br />\n&nbsp\;</div>\n\n<div style="margin: 0in 0in 0pt\;"><u>Presenting Sponsor:</u> AT&amp\;T</div>\n\n<div style="margin: 0in 0in 0pt\;"><u>Gold Sponsors:</u>&nbsp\; Advantage Bank\; Metro Technology Centers\; Tyler Media\; and Walmart</div>\n\n<div style="margin: 0in 0in 0pt\;"><u>Silver Sponsors:</u> First United Bank &amp\; Trust\; INTEGRIS Southwest Medical Center\; Mercy\; MidFirst Bank\; Moore Norman Technology Center\; OKC Thunder\; and Republic Bank &amp\; Trust</div>\n\n<div style="margin: 0in 0in 0pt\;"><u>Native Daughter Award Sponsor:</u>&nbsp\; Women of the South</div>\n\n<div style="margin: 0in 0in 0pt\;"><u>Citizen of the Year Award Sponsor:</u> Cox Communications</div>\n\n<div style="margin: 0in 0in 0pt\;"><u>Ambassador of the Year Award Sponsor:</u> Resthaven Funeral Home &amp\; Memory Gardens</div>\n\n<div style="margin: 0in 0in 0pt\;"><u>Volunteer of the Year Award Sponsor:</u> P.B. Odom III Construction Company<br />\n<u>Centerpiece Sponsor:</u> Dobson Technologies<br />\n<u>Wine Sponsor:</u> Moore Funeral &amp\; Cremation<br />\n<u>Snapchat Filter Sponsor:</u> Norman Regional Health System<br />\n&nbsp\;</div>\n
LOCATION:Cox Business Services Convention Center Great Hall C One Myriad Gardens
UID:e.435.17218
SEQUENCE:3
DTSTAMP:20260423T084434Z
URL:https://business.southokc.com/events/details/annual-banquet-celebrating-2017-in-2018-17218
END:VEVENT

END:VCALENDAR
