BEGIN:VCALENDAR
VERSION:2.0
PRODID:-//ChamberMaster//Event Calendar 2.0//EN
METHOD:PUBLISH
X-PUBLISHED-TTL:P3D
REFRESH-INTERVAL:P3D
CALSCALE:GREGORIAN
BEGIN:VEVENT
DTSTART:20241203T173000Z
DTEND:20241203T190000Z
X-MICROSOFT-CDO-ALLDAYEVENT:FALSE
SUMMARY:Ambassador Committee Lunch & Holiday Gift Exchange
DESCRIPTION:It's the Holidays! Join us for our annual Ambassador Lunch/Gift Exchange. To play "Gift Exchange\," please bring a wrapped gift to the meeting. Gift value of $25.\n\n\n\nDutch lunch.
X-ALT-DESC;FMTTYPE=text/html:<strong>It&#39\;s the Holidays!&nbsp\;Join us for&nbsp\;our annual Ambassador&nbsp\;Lunch/Gift Exchange. To play &quot\;Gift Exchange\,&quot\; please bring a wrapped gift&nbsp\;to the meeting. Gift value&nbsp\;of&nbsp\;$25.</strong><br />\n<br />\n<strong>Dutch lunch.</strong>
LOCATION:Toby Keith's I Love This Bar & Grill - Moore 1199 South I-35 Service Road\, Moore\, 73160
UID:e.435.36417
SEQUENCE:3
DTSTAMP:20260424T171529Z
URL:https://business.southokc.com/events/details/ambassador-committee-lunch-holiday-gift-exchange-36417
END:VEVENT

END:VCALENDAR
